BEGIN:VCALENDAR
VERSION:2.0
PRODID:-//Psychedelic Advocacy Network - ECPv6.15.20//NONSGML v1.0//EN
CALSCALE:GREGORIAN
METHOD:PUBLISH
X-ORIGINAL-URL:https://psychedelicadvocacy.org
X-WR-CALDESC:Events for Psychedelic Advocacy Network
REFRESH-INTERVAL;VALUE=DURATION:PT1H
X-Robots-Tag:noindex
X-PUBLISHED-TTL:PT1H
BEGIN:VTIMEZONE
TZID:America/Los_Angeles
BEGIN:DAYLIGHT
TZOFFSETFROM:-0800
TZOFFSETTO:-0700
TZNAME:PDT
DTSTART:20250309T100000
END:DAYLIGHT
BEGIN:STANDARD
TZOFFSETFROM:-0700
TZOFFSETTO:-0800
TZNAME:PST
DTSTART:20251102T090000
END:STANDARD
BEGIN:DAYLIGHT
TZOFFSETFROM:-0800
TZOFFSETTO:-0700
TZNAME:PDT
DTSTART:20260308T100000
END:DAYLIGHT
BEGIN:STANDARD
TZOFFSETFROM:-0700
TZOFFSETTO:-0800
TZNAME:PST
DTSTART:20261101T090000
END:STANDARD
BEGIN:DAYLIGHT
TZOFFSETFROM:-0800
TZOFFSETTO:-0700
TZNAME:PDT
DTSTART:20270314T100000
END:DAYLIGHT
BEGIN:STANDARD
TZOFFSETFROM:-0700
TZOFFSETTO:-0800
TZNAME:PST
DTSTART:20271107T090000
END:STANDARD
END:VTIMEZONE
BEGIN:VEVENT
DTSTART;TZID=America/Los_Angeles:20260429T180000
DTEND;TZID=America/Los_Angeles:20260429T191500
DTSTAMP:20260423T065128
CREATED:20241207T033705Z
LAST-MODIFIED:20260406T230058Z
UID:10000053-1777485600-1777490100@psychedelicadvocacy.org
SUMMARY:5-MeO DMT Integration & Sharing Circle
DESCRIPTION:Our online gathering is a supportive\, heart-centered space to explore how experiences with 5-MeO-DMT have impacted your life in meaningful and positive ways.  \n\n\n\nTogether\, we’ll gently reflect on shifts in identity and worldview\, including moments that may have felt destabilizing\, and share practical ways to work with and integrate these changes over time. \n\n\n\nWhether you’ve had a recent experience and are seeking clarity\, are still integrating an earlier journey\, or feel called to share your story with others who understand\, you are warmly welcome.  \n\n\n\nEven if you haven’t had a 5-MeO-DMT experience yourself\, you’re invited to listen\, learn\, and ask questions in a respectful and open environment. \n\n\n\nThis free gathering is open to anyone drawn to grounding and integrating expanded states of consciousness in a safe\, compassionate\, and non-judgmental community setting. \n\n\n\nFacilitators:This gathering is hosted by Peter Schubert\, an end-of-life doula and devoted participant in plant medicine practices\, together with Pamela Wood and Henry Passot\, Co-Founders of the Psychedelic Advocacy Network. \n\n\n\n\n\n*************************************************************************** \n\n\n\nAfter registering\, you will receive a confirmation email with a Zoom meeting link.  \n\n\n\n\n\n\n\n\n\n\n\n\n\n*************************************************************************** \n\n\n\nJOIN OUR NEW Psychedelic Advocacy Network>>>Being part of a community provides a buffer against life’s challenges through shared support and a common purpose. Within this nurturing environment\, individuals benefit from positive peer influences\, all of which contribute to the holistic well-being of its members. The communal bond is a powerful catalyst for personal growth and collective strength. \n\n\n\nDisclaimer:Our group exists to provide education and harm reduction and foster a supportive\, heart-centered community. Our group does not offer medical advice\, therapy\, or psychedelic substances. Also\, our events do not condone or facilitate the taking of illegal drugs.
URL:https://psychedelicadvocacy.org/event/5-meo-dmt-integration-sharing-circle/
ATTACH;FMTTYPE=image/jpeg:https://psychedelicadvocacy.org/wp-content/uploads/2024/12/psychedelic-five-1.jpg
END:VEVENT
BEGIN:VEVENT
DTSTART;TZID=America/Los_Angeles:20260506T180000
DTEND;TZID=America/Los_Angeles:20260506T191500
DTSTAMP:20260423T065128
CREATED:20260402T154729Z
LAST-MODIFIED:20260402T204642Z
UID:10000066-1778090400-1778094900@psychedelicadvocacy.org
SUMMARY:Exploring Eldership: Awakening Wisdom in the Second Half of Life
DESCRIPTION:You’re warmly invited to join us online for a heartfelt exploration of what it means to grow into wisdom\, compassion\, and deeper purpose. \n\n\n\nExploring Eldership is an online gathering that includes a thoughtful slide presentation and heartfelt discussion\, gently exploring how the lessons of our lives — heart\, mind\, and essence — can be integrated into meaningful ways of loving\, serving\, and living with intention. \n\n\n\nIn our session\, we’ll draw inspiration from the beautiful insights of Mark Nepo’s The Fifth Season: Creativity in the Second Half of Life and Rachel Harris\, PhD’s Swimming in the Sacred: Wisdom from the Psychedelic Underground. \n\n\n\nTogether\, we’ll reflect on the richness of experience\, the gift of presence\, and the unique role elders play in nurturing wisdom within themselves and their communities. \n\n\n\nFacilitators: \n\n\n\nCo-hosted by Michael Powell and Pamela Wood \n\n\n\n*************************************************************************** \n\n\n\n\n\n\n\n\n\n\n\n\n\nAfter registering\, you will receive a confirmation email with a Zoom meeting link.  \n\n\n\n*************************************************************************** \n\n\n\nJOIN OUR NEW Psychedelic Advocacy Network>>>Being part of a community provides a buffer against life’s challenges through shared support and a common purpose. Within this nurturing environment\, individuals benefit from positive peer influences\, all of which contribute to the holistic well-being of its members. The communal bond is a powerful catalyst for personal growth and collective strength. \n\n\n\nDisclaimer:Our group exists to provide education and harm reduction and foster a supportive\, heart-centered community. Our group does not offer medical advice\, therapy\, or psychedelic substances. Also\, our events do not condone or facilitate the taking of illegal drugs.
URL:https://psychedelicadvocacy.org/event/exploring-eldership-awakening-wisdom-in-the-second-half-of-life/
ATTACH;FMTTYPE=image/webp:https://psychedelicadvocacy.org/wp-content/uploads/2024/01/med600.webp
END:VEVENT
BEGIN:VEVENT
DTSTART;TZID=America/Los_Angeles:20260521T170000
DTEND;TZID=America/Los_Angeles:20260521T183000
DTSTAMP:20260423T065128
CREATED:20251027T223513Z
LAST-MODIFIED:20260421T220225Z
UID:10000063-1779382800-1779388200@psychedelicadvocacy.org
SUMMARY:Bridging Worlds: Zen teacher Ryushin Marchaj on Zen and Psychedelics
DESCRIPTION:Join us for a warm and welcoming online gathering with Zen teacher Ryushin Marchaj — a longtime Zen priest and physician who spent over 40 years immersed in Zen practice before feeling a strong pull toward the psychedelic plant world\, especially Ayahuasca. He later trained in ayahuasca ceremonies in Brazil with Indigenous shamans. \n\n\n\nIn this intimate and heartfelt talk\, Ryushin will share what led him to explore Ayahuasca and other sacred medicines more deeply\, and how this path has shaped his understanding of practice and healing. \n\n\n\nHe’ll reflect on what he discovered along the way about the mind\, the body\, and awakening — and how Zen practice and psychedelic work can complement each other in meaningful ways\, supporting our community’s values of healing\, conscious exploration\, and grounded\, embodied practice. \n\n\n\nCome join the conversation\, ask questions\, connect with the community\, and explore together what it means to weave contemplative discipline and psychedelic medicine in the service of real transformation. \n\n\n\nBio:Rev. Konrad Ryushin Marchaj is a Zen priest in the tradition of Zen Buddhism and a dharma heir of the late John Daido Loori\, Roshi. Formerly the abbot of Zen Mountain Monastery in the Catskill Mountains of New York\, \n\n\n\nBorn in Warsaw\, Poland\, he immigrated to the United States in 1967. He earned a Bachelor’s degree in Anthropology from Yale University in 1976 and a medical degree from Albany Medical College in 1980. \n\n\n\nRyushin began practicing Buddhism in 1983 and entered full-time residential training at Zen Mountain Monastery in 1992. During his tenure as abbot and director of operations\, he also collaborated with liberal arts educators to integrate contemplative practices into higher education. \n\n\n\nSince 2014\, he has been deeply engaged in exploring ayahuasca ceremonies within diverse traditions\, guided by several teachers. Integrating his medical and psychiatric background with decades of Buddhist training\, Ryushin brings a compassionate\, insightful\, and down-to-earth approach to teaching. \n\n\n\n*************************************************************************** \n\n\n\nAfter registering\, you will receive a confirmation email with a Zoom meeting link.  \n\n\n\n\n\n\n\n\n\n\n\n\n\n*************************************************************************** \n\n\n\nJOIN OUR NEW Psychedelic Advocacy Network>>>Being part of a community provides a buffer against life’s challenges through shared support and a common purpose. Within this nurturing environment\, individuals benefit from positive peer influences\, all of which contribute to the holistic well-being of its members. The communal bond is a powerful catalyst for personal growth and collective strength. \n\n\n\n*************************************************************************** \n\n\n\nDisclaimer:Our group exists to provide education and harm reduction and foster a supportive\, heart-centered community. Our group does not offer medical advice\, therapy\, or psychedelic substances. Also\, our events do not condone or facilitate the taking of illegal drugs.
URL:https://psychedelicadvocacy.org/event/zen-teacher-ryushin-marchaj-zen-and-psychedelics/
ATTACH;FMTTYPE=image/jpeg:https://psychedelicadvocacy.org/wp-content/uploads/2025/10/Ryushin-Marchaj-11.jpg
END:VEVENT
END:VCALENDAR