BEGIN:VCALENDAR
VERSION:2.0
PRODID:-//Psychedelic Advocacy Network - ECPv6.15.20//NONSGML v1.0//EN
CALSCALE:GREGORIAN
METHOD:PUBLISH
X-ORIGINAL-URL:https://psychedelicadvocacy.org
X-WR-CALDESC:Events for Psychedelic Advocacy Network
REFRESH-INTERVAL;VALUE=DURATION:PT1H
X-Robots-Tag:noindex
X-PUBLISHED-TTL:PT1H
BEGIN:VTIMEZONE
TZID:America/Los_Angeles
BEGIN:DAYLIGHT
TZOFFSETFROM:-0800
TZOFFSETTO:-0700
TZNAME:PDT
DTSTART:20250309T100000
END:DAYLIGHT
BEGIN:STANDARD
TZOFFSETFROM:-0700
TZOFFSETTO:-0800
TZNAME:PST
DTSTART:20251102T090000
END:STANDARD
BEGIN:DAYLIGHT
TZOFFSETFROM:-0800
TZOFFSETTO:-0700
TZNAME:PDT
DTSTART:20260308T100000
END:DAYLIGHT
BEGIN:STANDARD
TZOFFSETFROM:-0700
TZOFFSETTO:-0800
TZNAME:PST
DTSTART:20261101T090000
END:STANDARD
BEGIN:DAYLIGHT
TZOFFSETFROM:-0800
TZOFFSETTO:-0700
TZNAME:PDT
DTSTART:20270314T100000
END:DAYLIGHT
BEGIN:STANDARD
TZOFFSETFROM:-0700
TZOFFSETTO:-0800
TZNAME:PST
DTSTART:20271107T090000
END:STANDARD
END:VTIMEZONE
BEGIN:VEVENT
DTSTART;TZID=America/Los_Angeles:20260429T180000
DTEND;TZID=America/Los_Angeles:20260429T191500
DTSTAMP:20260423T082706
CREATED:20241207T033705Z
LAST-MODIFIED:20260406T230058Z
UID:10000053-1777485600-1777490100@psychedelicadvocacy.org
SUMMARY:5-MeO DMT Integration & Sharing Circle
DESCRIPTION:Our online gathering is a supportive\, heart-centered space to explore how experiences with 5-MeO-DMT have impacted your life in meaningful and positive ways.  \n\n\n\nTogether\, we’ll gently reflect on shifts in identity and worldview\, including moments that may have felt destabilizing\, and share practical ways to work with and integrate these changes over time. \n\n\n\nWhether you’ve had a recent experience and are seeking clarity\, are still integrating an earlier journey\, or feel called to share your story with others who understand\, you are warmly welcome.  \n\n\n\nEven if you haven’t had a 5-MeO-DMT experience yourself\, you’re invited to listen\, learn\, and ask questions in a respectful and open environment. \n\n\n\nThis free gathering is open to anyone drawn to grounding and integrating expanded states of consciousness in a safe\, compassionate\, and non-judgmental community setting. \n\n\n\nFacilitators:This gathering is hosted by Peter Schubert\, an end-of-life doula and devoted participant in plant medicine practices\, together with Pamela Wood and Henry Passot\, Co-Founders of the Psychedelic Advocacy Network. \n\n\n\n\n\n*************************************************************************** \n\n\n\nAfter registering\, you will receive a confirmation email with a Zoom meeting link.  \n\n\n\n\n\n\n\n\n\n\n\n\n\n*************************************************************************** \n\n\n\nJOIN OUR NEW Psychedelic Advocacy Network>>>Being part of a community provides a buffer against life’s challenges through shared support and a common purpose. Within this nurturing environment\, individuals benefit from positive peer influences\, all of which contribute to the holistic well-being of its members. The communal bond is a powerful catalyst for personal growth and collective strength. \n\n\n\nDisclaimer:Our group exists to provide education and harm reduction and foster a supportive\, heart-centered community. Our group does not offer medical advice\, therapy\, or psychedelic substances. Also\, our events do not condone or facilitate the taking of illegal drugs.
URL:https://psychedelicadvocacy.org/event/5-meo-dmt-integration-sharing-circle/
ATTACH;FMTTYPE=image/jpeg:https://psychedelicadvocacy.org/wp-content/uploads/2024/12/psychedelic-five-1.jpg
END:VEVENT
END:VCALENDAR